Workbook

Sheet Protokoll
A1: Prüfprotokoll Erstprüfung elektrischer Anlagen — Version 1.0
A2: DIN VDE 0100-600:2017-06 · DIN VDE 0100-410:2018-10
A4: Prüfbetrieb, Auftraggeber, Objekt
A5: Protokoll-Nr.
A6: Datum
A7: Uhrzeit
A8: Prüfbetrieb
A9: Prüfperson (Name, Qualifikation)
A10: Auftraggeber / Betreiber
A11: Objekt / Standort
A12: Anlass der Prüfung | C12: Neuanlage | Erweiterung | Änderung
A13: Prüfgerät
A14: Prüfgerät Hersteller
A15: Prüfgerät Typ
A16: Prüfgerät Seriennummer
A17: Kalibrierung gültig bis
A18: Prüfgeräte-Norm (DIN VDE 0413 / DIN EN 61557)
A19: Prüfadapter / Zubehör (Typ, SN)
A20: Anlagendaten
A21: Netzbetreiber
A22: Zähler-Nr.
A23: Nennspannung U0 / Un [V]
A24: Vorsicherung (Art, In)
... A28: Errichtungsnormen (Reihe DIN VDE 0100, Teile)
A29: Netzform | C29: TN-C | TN-S | TN-C-S | TT | IT
A30: Schaltungsunterlagen übergeben | C30: ja | nein
A31: Einschränkung des Prüfumfangs (mit Begründung)
A32: Besichtigen
A33: Schutz gegen elektrischen Schlag (Basis- und Fehlerschutz) ausgeführt
A34: Brandschutzmaßnahmen und Abschottungen vorhanden
A35: Leiterquerschnitte zu Strombelastbarkeit und Spannungsfall passend
A36: Auswahl und Einstellung der Schutz- und Überwachungseinrichtungen
A37: Trenn- und Schalteinrichtungen vorhanden, richtig angeordnet
A38: Betriebsmittel zu den äußeren Einflüssen passend ausgewählt
A39: Kennzeichnung von Neutral- und Schutzleiter
A40: Warn- und Hinweisschilder angebracht
A41: Kennzeichnung der Stromkreise und Überstrom-Schutzeinrichtungen
A42: Schaltpläne und Unterlagen vorhanden und übergeben
... A58: Messen an der Gesamtanlage
A59: R_PE Durchgängigkeit der Schutzleiter [Ω] (Prüfstrom ≥ 200 mA) | C59: Grenzwert: niederohmig, Praxis < 1 Ω
A60: R_PA Schutzpotentialausgleich [Ω] | C60: Grenzwert: niederohmig, Praxis < 1 Ω
A61: R_ISO aktive Leiter gegen PE [MΩ] (500 V DC) | C61: Grenzwert: ≥ 1,0 MΩ
A62: R_ISO SELV / PELV [MΩ] (250 V DC) | C62: Grenzwert: ≥ 0,5 MΩ
A63: R_A Erdungswiderstand [Ω] (TT- und IT-System) | C63: Grenzwert: R_A · IΔn ≤ 50 V
A64: Zs Schleifenimpedanz am ungünstigsten Punkt [Ω] | C64: Grenzwert: siehe Tabelle
A65: U_B Berührungsspannung [V] | C65: Grenzwert: ≤ 50 V
A66: ΔU Spannungsfall [%] | C66: Grenzwert: Hinweis: 3 % Beleuchtung, 5 % sonstige
A67: Drehfeld an Drehstrom-Steckvorrichtungen | C67: Grenzwert: Rechtsdrehfeld
A68: Für die Neuausgabe der DIN VDE 0100-600 werden Einzelmesswerte je Stromkreis erwartet; die Stromkreisliste auf der folgenden Seite sieht sie vor.
A69: Stromkreisliste
A70: siehe Blatt „Stromkreise“
A71: RCD (Fehlerstrom-Schutzeinrichtungen)
A72: siehe Blatt „Stromkreise“
A73: Ergebnis
A74: Ergebnis
A75: Ergebnis der Prüfung | C75: bestanden | bestanden mit Hinweis | nicht bestanden
A76: Mangel 1 (Beschreibung, Schwere, Frist)
A77: Mangel 2
A78: Mangel 3
A79: Nächster Prüftermin
A80: Prüffrist festgelegt durch / Grundlage
A81: Prüfplakette angebracht | C81: ja | nein
A82: Prüfplakette nur bei bestandener Prüfung; der nächste Termin muss darauf lesbar sein.
A83: Unterschriften
A84: Datum, Unterschrift Prüfperson
A85: Datum, Unterschrift Auftraggeber / Betreiber
A87: Nutzung im eigenen Betrieb frei, Weitergabe und Verkauf nicht (elektroprotokoll.de/nutzungsbedingungen-vorlagen). DGUV, VDE und DIN sind Namen bzw. Marken der jeweiligen Organisationen; Nennung nur zur Beschreibung des Anwendungsbereichs; der Anbieter dieser Vorlage steht in keiner Verbindung zu ihnen; die Vorlage ist von ihnen weder geprüft noch empfohlen.

Sheet Stromkreise
A1: Stromkreisliste: eine Zeile je Stromkreis, entferntester Messpunkt. Zs-Grenzwert aus Schutzorgan und Nennstrom (Blatt „Grenzwerte“).
A2: Nr. | B2: Verteiler | C2: Bezeichnung / Ort | D2: Leitungstyp | E2: Adern | F2: mm² | G2: Schutz- organ | H2: In [A] | I2: RCD- Nr. | J2: R_PE [Ω] | K2: R_ISO L–PE [MΩ] | L2: R_ISO N–PE [MΩ] | M2: Zs [Ω] | N2: Ik [A] | O2: Dreh- feld | P2: Bemerkung | Q2: Zs Grenzwert 2/3 [Ω]
A3: 1 | B3: UV Neu | C3: Steckdosen Werkstatt | D3: NYM-J | E3: 5 | F3: 2,5 | G3: B | H3: 16 | I3: F1 | J3: 0,11 | K3: > 300 | L3: > 300 | M3: 0,58 | N3: 397 | O3: rechts | Q3: =IFERROR(VLOOKUP($G3&"-"&$H3,Grenzwerte!$G$3:$H$40,2,FALSE),"")
Q4: =IFERROR(VLOOKUP($G4&"-"&$H4,Grenzwerte!$G$3:$H$40,2,FALSE),"")
Q5: =IFERROR(VLOOKUP($G5&"-"&$H5,Grenzwerte!$G$3:$H$40,2,FALSE),"")
Q6: =IFERROR(VLOOKUP($G6&"-"&$H6,Grenzwerte!$G$3:$H$40,2,FALSE),"")
Q7: =IFERROR(VLOOKUP($G7&"-"&$H7,Grenzwerte!$G$3:$H$40,2,FALSE),"")
Q8: =IFERROR(VLOOKUP($G8&"-"&$H8,Grenzwerte!$G$3:$H$40,2,FALSE),"")
Q9: =IFERROR(VLOOKUP($G9&"-"&$H9,Grenzwerte!$G$3:$H$40,2,FALSE),"")
Q10: =IFERROR(VLOOKUP($G10&"-"&$H10,Grenzwerte!$G$3:$H$40,2,FALSE),"")
Q11: =IFERROR(VLOOKUP($G11&"-"&$H11,Grenzwerte!$G$3:$H$40,2,FALSE),"")
Q12: =IFERROR(VLOOKUP($G12&"-"&$H12,Grenzwerte!$G$3:$H$40,2,FALSE),"")
Q13: =IFERROR(VLOOKUP($G13&"-"&$H13,Grenzwerte!$G$3:$H$40,2,FALSE),"")
Q14: =IFERROR(VLOOKUP($G14&"-"&$H14,Grenzwerte!$G$3:$H$40,2,FALSE),"")
Q15: =IFERROR(VLOOKUP($G15&"-"&$H15,Grenzwerte!$G$3:$H$40,2,FALSE),"")
... Q202: =IFERROR(VLOOKUP($G202&"-"&$H202,Grenzwerte!$G$3:$H$40,2,FALSE),"")
A204: Nutzung im eigenen Betrieb frei, Weitergabe und Verkauf nicht (elektroprotokoll.de/nutzungsbedingungen-vorlagen). DGUV, VDE und DIN sind Namen bzw. Marken der jeweiligen Organisationen; Nennung nur zur Beschreibung des Anwendungsbereichs; der Anbieter dieser Vorlage steht in keiner Verbindung zu ihnen; die Vorlage ist von ihnen weder geprüft noch empfohlen.

Sheet Grenzwerte
A1: Grenzwerte dieser Vorlage — Prüfprotokoll Erstprüfung elektrischer Anlagen
A2: Messung | B2: Grenzwert | C2: Bedingung | G2: Schlüssel | H2: Zs 2/3 [Ω]
A3: R_ISO | B3: ≥ 0,5 MΩ bei 250 V DC | C3: SELV, PELV | G3: gG-6 | H3: 3.26
A4: R_ISO | B4: ≥ 1,0 MΩ bei 500 V DC | C4: Stromkreise bis 500 V, FELV; ohne Verbraucher; SPD abklemmen oder 250 V | G4: gG-10 | H4: 1.87
A5: R_ISO | B5: ≥ 1,0 MΩ bei 1000 V DC | C5: Stromkreise über 500 V | G5: gG-16 | H5: 1.43
A6: R_PE / R_PA | B6: niederohmig, Prüfstrom ≥ 200 mA | C6: Praxis < 1 Ω, plausibel zu Länge und Querschnitt | G6: gG-20 | H6: 1.06
A7: Zs (TN) | B7: Tabellen auf dieser Seite, Bewertung mit 2/3 | C7: 0,4 s Endstromkreise, 5 s Verteilerstromkreise | G7: gG-25 | H7: 0.85
A8: R_A (TT) | B8: R_A · IΔn ≤ 50 V (30 mA → rechnerisch 1666 Ω) | C8: Praxiswerte liegen deutlich darunter | G8: gG-32 | H8: 0.58
A9: RCD | B9: Auslösung bei IΔn; ≤ 40 ms bei 5 × IΔn; IΔ 0,5–1,0 × IΔn | C9: Typ AC/A/F/B | G9: gG-35 | H9: 0.52
A10: U_B | B10: ≤ 50 V | G10: gG-40 | H10: 0.49
A11: ΔU Spannungsfall | B11: 3 % Beleuchtung, 5 % sonstige Verbraucher | C11: Hinweiswert, kein Grenzwert der Prüfnorm | G11: gG-50 | H11: 0.33
A12: Drehfeld | B12: Rechtsdrehfeld | C12: Drehstrom-Steckvorrichtungen | G12: gG-63 | H12: 0.28
G13: B-6 | H13: 5.11
A14: Zahlen aus DIN VDE 0100-600:2017-06 (Tabellen NB.1 / NB.2), DIN VDE 0100-410:2018-10 und DGUV Information 203-072 (04/2021). Maßgeblich ist die jeweils gültige Normausgabe. | G14: B-10 | H14: 3.07
G15: B-13 | H15: 2.36
A16: Nutzung im eigenen Betrieb frei, Weitergabe und Verkauf nicht (elektroprotokoll.de/nutzungsbedingungen-vorlagen). DGUV, VDE und DIN sind Namen bzw. Marken der jeweiligen Organisationen; Nennung nur zur Beschreibung des Anwendungsbereichs; der Anbieter dieser Vorlage steht in keiner Verbindung zu ihnen; die Vorlage ist von ihnen weder geprüft noch empfohlen. | G16: B-16 | H16: 1.92
G17: B-20 | H17: 1.53
G18: B-25 | H18: 1.23
G19: B-32 | H19: 0.96
G20: B-40 | H20: 0.77
G21: B-50 | H21: 0.61
G22: B-63 | H22: 0.49
G23: C-6 | H23: 2.56
G24: C-10 | H24: 1.53
G25: C-13 | H25: 1.18
G26: C-16 | H26: 0.96
G27: C-20 | H27: 0.77
G28: C-25 | H28: 0.61
... G32: C-63 | H32: 0.24
G34: Schlüssel: Schutzorgan-Nennstrom, z. B. B-16. Werte für 0,4 s und U0 = 230 V; Verteilerstromkreise (5 s) abweichend, siehe PDF.
